BEGIN:VCALENDAR
VERSION:2.0
PRODID:-//Piesendorf Attraktiv - ECPv6.15.20//NONSGML v1.0//EN
CALSCALE:GREGORIAN
METHOD:PUBLISH
X-ORIGINAL-URL:https://www.piesendorf-attraktiv.at
X-WR-CALDESC:Veranstaltungen für Piesendorf Attraktiv
REFRESH-INTERVAL;VALUE=DURATION:PT1H
X-Robots-Tag:noindex
X-PUBLISHED-TTL:PT1H
BEGIN:VTIMEZONE
TZID:Europe/Berlin
BEGIN:DAYLIGHT
TZOFFSETFROM:+0100
TZOFFSETTO:+0200
TZNAME:CEST
DTSTART:20230326T010000
END:DAYLIGHT
BEGIN:STANDARD
TZOFFSETFROM:+0200
TZOFFSETTO:+0100
TZNAME:CET
DTSTART:20231029T010000
END:STANDARD
BEGIN:DAYLIGHT
TZOFFSETFROM:+0100
TZOFFSETTO:+0200
TZNAME:CEST
DTSTART:20240331T010000
END:DAYLIGHT
BEGIN:STANDARD
TZOFFSETFROM:+0200
TZOFFSETTO:+0100
TZNAME:CET
DTSTART:20241027T010000
END:STANDARD
BEGIN:DAYLIGHT
TZOFFSETFROM:+0100
TZOFFSETTO:+0200
TZNAME:CEST
DTSTART:20250330T010000
END:DAYLIGHT
BEGIN:STANDARD
TZOFFSETFROM:+0200
TZOFFSETTO:+0100
TZNAME:CET
DTSTART:20251026T010000
END:STANDARD
BEGIN:DAYLIGHT
TZOFFSETFROM:+0100
TZOFFSETTO:+0200
TZNAME:CEST
DTSTART:20260329T010000
END:DAYLIGHT
BEGIN:STANDARD
TZOFFSETFROM:+0200
TZOFFSETTO:+0100
TZNAME:CET
DTSTART:20261025T010000
END:STANDARD
BEGIN:DAYLIGHT
TZOFFSETFROM:+0100
TZOFFSETTO:+0200
TZNAME:CEST
DTSTART:20270328T010000
END:DAYLIGHT
BEGIN:STANDARD
TZOFFSETFROM:+0200
TZOFFSETTO:+0100
TZNAME:CET
DTSTART:20271031T010000
END:STANDARD
END:VTIMEZONE
BEGIN:VEVENT
DTSTART;TZID=Europe/Berlin:20260412T140000
DTEND;TZID=Europe/Berlin:20260412T200000
DTSTAMP:20260420T153208
CREATED:20250227T150648Z
LAST-MODIFIED:20260407T075921Z
UID:10000025-1776002400-1776024000@www.piesendorf-attraktiv.at
SUMMARY:Unternehmerstammtisch am Fußballplatz
DESCRIPTION:´UNTERNEHMERSTAMMTISCH am Fußballplatz\n \n  \nUSK Piesendorf – FC Kaprun \nin der AU Trafford Piesendorf\nGemeinsam mit dem USK Piesendorf heißen wir Euch zum sportlichen Unternehmerstammtisch herzlich willkommen – diesmal in ganz besonderer Atmosphäre! \n\nPünktlich zur Derby-Time | USK Piesendorf vs. FC Kaprun | laden wir Euch auf den Fußballplatz ein\, um Netzwerken\, Austausch und Sportbegeisterung miteinander zu verbinden. Der USK Piesendorf möchte mit diesem Sponsorentag seine Partner in den Mittelpunkt stellen\, die mit ihrer langjährigen Unterstützung\, dem Engagement und der Loyalität dem heimischen Sportverein gegenüber diesen Nachmittag mit dem spürbaren Teamgeist\, dem sportlichen Niveau und dem essentiellen Fundament erst möglich machen. \n  \nFreut euch auf spannende Gespräche\, neue Kontakte und eine lockere Stimmung im AU Trafford in Piesendorf – bei freiem Eintritt\, Snack und einem Getränkemarkerl für jeden Gast im speziell eingerichteten Sponsoren-Sektor. Zur besseren Planbarkeit bitten wir aber unbedingt um Eure verlässliche Anmeldung (siehe unten). \n  \nAls besonderes Highlight ist – je nach Stimmung und Teilnehmerzahl – auch ein kleines Freundschaftsspiel geplant. \nAlso bitte Sportkleidung und Sportschuhe bzw. wer hat Fußballschuhe griffbereit halten. \n  \n  \n  \nTERMIN \n\n\n \n\n\n \n Sonntag\, 12. April 2026 Treffpunkt: 14.00 Uhr  | Antonias Hütte \n  \n  \nINKLUSIVLEISTUNGEN \n\nFreier Eintritt in der AU Trafford\nReservierte Plätze im Sponsoren-Sektor\nSnack & 1 Getränkemarkerl pro Person\n\n  \n  UNKOSTENBEITRAG \nWir sind als Gäste des USK Piesendorf mit den oben genannten Inklusivleistungen eingeladen. \nWeitere Konsumationen bitte selbst vor Ort bezahlen. \n  \nMITZUBRINGEN \nGUTE LAUNE \nKleidung für jede Wetterlage & sportliche Einlagen \n  \n  \nANMELDUNG  unbedingt erforderlich \nbis Mittwoch\, 8. April 2026   \nzur Anmeldung \n  \n   \nVIELEN DANK! \nWir freuen uns auf einen sportlichen und geselligen Nachmittag! \n  \n 
URL:https://www.piesendorf-attraktiv.at/event/unternehmerstammtisch-fussballplatz/
CATEGORIES:Gewerbetreff
ATTACH;FMTTYPE=image/png:https://www.piesendorf-attraktiv.at/wp-content/uploads/2022/05/cropped-favicon-1.png
ORGANIZER;CN="Piesendorf Attraktiv":MAILTO:anmeldung@piesendorf-attraktiv.at
END:VEVENT
BEGIN:VEVENT
DTSTART;TZID=Europe/Berlin:20260313T190000
DTEND;TZID=Europe/Berlin:20260313T210000
DTSTAMP:20260420T153208
CREATED:20240227T120448Z
LAST-MODIFIED:20260219T151425Z
UID:10000015-1773428400-1773435600@www.piesendorf-attraktiv.at
SUMMARY:Unternehmerstammtisch
DESCRIPTION:inkl. Schnapsverkostung in der neuen HEP-Schnapshütte\n  \nxjansdkadlADMASD \n  \n     \n  \n  \nFreitag\, 13. März 2026 | 19.00 Uhr \nHEP-SCHNAPSHÜTTE \nLeitenweg 64\, 5721 Piesendorf \n  \n  \n SELBSTBEHALT\n€ 10\,00inkl. Schnapsverkostung und Snacks \n  \n  \nANMELDUNG ERFORDERLICH\nbis Dienstag\, 10. März 2026 \nvia Anmeldeformular (unten)  \n  \nVIELEN DANK! \nWir freuen uns auf eine rege Teilnahme und einen lustigen Abend! \n\n\n\n 
URL:https://www.piesendorf-attraktiv.at/event/unternehmerstammtisch/
CATEGORIES:Unternehmerstammtisch
ORGANIZER;CN="Piesendorf Attraktiv":MAILTO:anmeldung@piesendorf-attraktiv.at
END:VEVENT
BEGIN:VEVENT
DTSTART;TZID=Europe/Berlin:20251010T160000
DTEND;TZID=Europe/Berlin:20251010T200000
DTSTAMP:20260420T153208
CREATED:20250925T124329Z
LAST-MODIFIED:20260323T123944Z
UID:10000031-1760112000-1760126400@www.piesendorf-attraktiv.at
SUMMARY:KI- Vortrag
DESCRIPTION:  \nUnter dem Motto „Content Creation einfach gemacht“ oder: wie kann ich ansprechende und hochwertige Fotos mit meinem Handy machen und wie nutze ich diese anschließend für Social Media?“ laden wir euch zu einem spannenden Nachmittag ein: Kommt mit auf eine Fototour und lernt anschließend\, worauf es bei einem Social-Media Posting ankommt. Wir starten bei der Krinnerbrücke (Salzachbrücke Richtung Gasthof Einöd). Hier haben wir tolle Landschaftsmotive\, bei genug Schnee sicher noch die Möglichkeit auf Sportfotografie und gegenseitig versuchen wir uns in Portraitaufnahmen. \n\n\n\nFotoprofi Wilfried Sonnleithner verrät dabei Tipps und Tricks\, um eure fotografischen Fähigkeiten zu verbessern. Lernt wie ihr ansprechende Fotos nur mit dem Handy machen und die die technischen Funktionen der Handy-Kamera optimal nutzen könnt. Egal wie viel oder wenig ihr euch bis jetzt mit fotografieren beschäftigt habt\, bringt einfach euer Smartphone mit und lasst uns die Schönheit der Natur einfangen! Vergesst aber nicht euer Handy vorher aufzuladen ;-) \n  \n  \n  \n\n\n\nAnschließend gibt’s einen Mini-Social-Media Workshop mit Susanne Mitterer. Sie verrät euch einige einfache Kniffe wie man ein erfolgreiches Social-Media Posting erstellt und was es mit dem Algorithmus von Instagram und Facebook auf sich hat. \n\n\n\nMit den Expertentipps von Susanne und Wilfried gelingt es euch ganz einfach ansprechende Fotos aus dem Arbeitsalltag für Social Media\, eure Website\, den Webshop oder euren Newsletter zu produzieren und diese auch entsprechend zu verwenden.Nach diesem lehrreichen Nachmittag lassen wir den Tag im Gasthof Einödhof bei Familie Kapeller gemütlich ausklingen. \n\n\n\n  \n\n\n\n \n\n\n \nTERMIN\n\n\n \nMittwoch\, 13. Mai 2026 | 19.00 Uhr HGC Piesendorf \n\n\n \n \n\n\n \nSELBSTBEHALT PRO PERSON\n\n\n \nfür unsere Mitglieder € 29\,00  \n(Geschäftsführung | Partnerinnen | Mitarbeiter:innen) \n  \n\n\n \nINKLUSIVLEISTUNGEN\n\n\nFotowalk mit Fotoprofi Wilfried Sonnleithner\nSocial Media Workshop mit Susanne Mitterer\nGemütliche Stärkung im Gasthof Einödhof\n\n\n\n\n \n \nMITZUBRINGEN\n\n\n \ndem Wetter entsprechende Kleidung | aufgeladenes Smartphone \n  \n\n\n \n\nGUT ZU WISSEN\n\n\n \nDie Teilnehmeranzahl ist auf 15 Personen beschränkt. Der Workshop findet bei jeder Witterung statt! Die Anmeldung ist verbindlich. Bei Nichtteilnahme kann der Unkostenbeitrag NICHT rückerstattet werden! \n  \n\n\n\n \nANMELDUNG\n\n\n \n\n\n \n\nbis Montag\, 11. Mai 2026   \nausschließlich für ATTRAKTIV-Mitglieder \nüber das Online-Formular  \nhier gehts zur Anmeldung \n\n\n\n \n \n 
URL:https://www.piesendorf-attraktiv.at/event/fotowalk-social-media-workshop/
CATEGORIES:Workshop/Kurs
ATTACH;FMTTYPE=image/jpeg:https://www.piesendorf-attraktiv.at/wp-content/uploads/2024/01/IMG_1304-scaled-e1705056429700.jpg
ORGANIZER;CN="Piesendorf Attraktiv":MAILTO:anmeldung@piesendorf-attraktiv.at
END:VEVENT
BEGIN:VEVENT
DTSTART;VALUE=DATE:20250920
DTEND;VALUE=DATE:20250921
DTSTAMP:20260420T153208
CREATED:20250720T114216Z
LAST-MODIFIED:20251210T133902Z
UID:10000030-1758326400-1758412799@www.piesendorf-attraktiv.at
SUMMARY:Gewerbeausflug Mittersill
DESCRIPTION:mit Betriebsbesichtigung „Fahnengärtner“ und Nationalparkzentrum\n  \n  \n       \nSamstag\, 20. September 2025\n  \n  \n PROGRAMM\nFahrt mit der Pinzgaubahn nach Mittersill(Abfahrtszeiten: Fürth-Kaprun 9.14 Uhr\, Piesendorf 9.17 Uhr\, Piesendorf Bad 9.19 Uhr\, Walchen 9.21 Uhr) \n10.00 Uhr Betriebsbesichtigung Fahnen Gärtner mit Produktvorstellung und NetworkingGetränke & Snacks in der Lounge \n14.30 Uhr Führung Nationalparkzentrum Dauer ca. 1\,5 Std. mit einem Ranger(n)  \n17.30 Uhr Abendessen im Gasthof Bräurup in Mittersill \nRückfahrt von Mittersill mit der Pinzgaubahn (19.10 Uhr\, 20.10 Uhr oder 21.10 Uhr) \nUNKOSTENBEITRAG\nMitglieder (Geschäftsführung\, Partner:innen\, Mitarbeiter:innen) € 15\,00Begleitpersonen von Mitarbeitern: € 25\,00 \n  \nim Teilnehmerbeitrag enthalten sind alle angeführten Leistungen (Betriebsbesichtigung Fahnengärnter\, Nationalparkzentrum inkl. Führung)Die Zugfahrt mit der Pinzgauer Lokalbahn ist im Rahmen der Salzburger Benzinfrei-Tage kostenlos. \n  \nANMELDUNG ERFORDERLICH\nbis Montag\, 08. September 2025 \nZUR ANMELDUNG \n  \n  \nVIELEN DANK! \nWir freuen uns auf eine rege Teilnahme und einen netten Ausflug nach Mittersill! \n\n\n\n 
URL:https://www.piesendorf-attraktiv.at/event/gewerbeausflug-mittersill/
CATEGORIES:Gewerbetreff
ATTACH;FMTTYPE=image/jpeg:https://www.piesendorf-attraktiv.at/wp-content/uploads/2025/05/mittersill.jpg
ORGANIZER;CN="Piesendorf Attraktiv":MAILTO:anmeldung@piesendorf-attraktiv.at
END:VEVENT
BEGIN:VEVENT
DTSTART;VALUE=DATE:20241123
DTEND;VALUE=DATE:20241124
DTSTAMP:20260420T153208
CREATED:20241108T094400Z
LAST-MODIFIED:20251116T154858Z
UID:10000022-1732320000-1732406399@www.piesendorf-attraktiv.at
SUMMARY:Attraktiv-Ausflug zum Wolfgangseer Advent
DESCRIPTION:Wolfgangseer Advent – Ein Advent wie damals\n \n  \nWie bereits im ATTRAKTIV-Jahresprogramm 2024 angekündigt\, dürfen wir Euch zu einer adventlichen Auszeit in einer ATTRAKTIVEN Runde einladen. \n \nBereits seit 20 Jahren begeistert der Wolfgangseer Advent seine Besucher:innen mit liebevoll gestalteten Advent-Orten rund um den See\, traditioneller Dekoration und festlicher Stimmung. \nDer Wolfgangseer Advent steht für authentische Traditionen und das Gefühl von Heimat. Ausgezeichnet wird er durch seine einzigartige Lage zwischen den Bergen des Salzkammerguts und direkt am Seeufer. Mit der Wolfgangsee Überfahrt von St. Gilgen nach St. Wolfgang kann man den Zauber der Adventzeit regelrecht spüren. Die malerischen Dörfer bieten eine traumhafte Kulisse für den Adventmarkt\, der mit seinen liebevoll geschmückten Holzhütten\, funkelnden Lichtern und stimmungsvoller Musik zum Verweilen und Genießen einlädt. Draußen am Wasser schwimmt die riesengroße ORF Friedenslicht-Laterne. Sie ist längst zum Symbol für den Advent am Wolfgangsee geworden. Vom Schiff und vom Ufer aus zieht sie die staunenden Blicke auf sich. \n  \nDie über 1.000-jährige Geschichte vom Wolfgangsee ist spürbar und wartet nur darauf von Euch entdeckt zu werden. \n  \n\n\n \n\n\n \nATTRAKTIV-Ausflug | Samstag\, 23. November  St. Gilgen – Schifffahrt – St. Wolfgang\n  \n\n\n \n\n\n \n10.00 Uhr: Gemeinsame B usfahrt nach St. Gilgen ab Piesendorf (Zustieg an den Bushaltestellen in Piesendorf\, Fürth und Aufhausen möglich) \n\n\n \nca.12.00 Uhr Mittagessen beim Gasthof „zur Post“ in St. Gilgen \ndanach: Zeit zur freien Verfügung am Adventmarkt in St. Gilgen \n15:50 mit der Wolfgangsee-Schiffahrt von St. Gilgen nach St. Wolfgang \nBesuch des Wolfgangseer Advents \n19.30 Uhr Gemeinsame Rückfahrt mit dem Bus von St. Wolfgang nach Piesendorf \n  \n  \nINKLUSIVLEISTUNGEN\nBusfahrt Piesendorf – St. Gilgen – Piesendorf \nWolfgangsee Schiffahrt von St. Gilgen nach St. Wolgang \n  \n  \nSELBSTBEHALT pro Person\nfür unsere Mitglieder € 40\,00  \nbetrifft Geschäftsführung mit Familie & Mitarbeiter \n  \nfür NICHT-Mitglieder € 65\,00  \ninkl. aller angegebenen Inklusivleistungen | exkl. Verpflegung \nJegliche Konsumationen sind bitte selbst zu bezahlen.  \n  \nzahlbar mittels Überweisung auf das Girokonto von Piesendorf Attraktiv: \nRaiffeisenbank Hohe Tauern | IBAN AT46 3501 2000 1803 1724 \n  \nANMELDUNG\nbis Donnerstag\, 14. November 2024  \n  \nvia Anmeldeformular (unten) und zeitgleich Überweisung des Betrages auf unser Konto bei der Raiffeisenbank Hohe Tauern \noder per Mail an anmeldung@piesendorf-attraktiv.at mit Angabe jedes Teilnehmers von Firma\, Vor- & Nachname\, Zustiegsstelle & Telefonnummer \n  \n  \nWir freuen uns auf eine adventliche Auszeit!  \n  \n 
URL:https://www.piesendorf-attraktiv.at/event/wolfgangseeradvent/
CATEGORIES:Ausflug
ATTACH;FMTTYPE=image/jpeg:https://www.piesendorf-attraktiv.at/wp-content/uploads/2024/09/1603354891-UgGRwNZR6p.jpg
ORGANIZER;CN="Piesendorf Attraktiv":MAILTO:anmeldung@piesendorf-attraktiv.at
END:VEVENT
BEGIN:VEVENT
DTSTART;TZID=Europe/Berlin:20240921T083000
DTEND;TZID=Europe/Berlin:20240921T170000
DTSTAMP:20260420T153208
CREATED:20240905T112001Z
LAST-MODIFIED:20251116T154840Z
UID:10000020-1726907400-1726938000@www.piesendorf-attraktiv.at
SUMMARY:Jahreshauptversammlung
DESCRIPTION:HOCHGEBIRGSSTAUSEEN MOOSERBODENmit Jahreshauptversammlung und exklusiver Führung in LIMBERG III & Besuch der FÜRTHERMOAR ALM\nZuversichtlich\, dass es die Wetterlage nächstes Wochenende zulässt\, hier die Eckdaten zu unserem exklusivem Gewerbeausflug auf 2.040 m Seehöhe in atemberaubender Kulisse der Hochgebirgsstauseen am Mooserboden\, um das Offizielle kurz und knapp in ein vielversprechendes Programm zu verpacken\, gekoppelt mit einer wohlverdienten Auszeit für uns alle.   \n  \n                                                                    \n  \nSAMSTAG\, 21.09.2024\nKesselfall – Hochgebirgsstauseen Mooserboden – Limberg III – Fürthermoar Alm\n \nECKDATEN IM ÜBERBLICK\n\n\n8.30 Uhr Treffpunkt Busparkplatz Kesselfall Kaprun \n\n\nAuffahrt zu den Hochgebirgsstauseen Mooserboden \n\n\nFührung LIMBERG III & MOOSERBODEN \n\n\nJAHRESHAUPTVERSAMMLUNG Piesendorf Attraktiv  \n\n\nGemütliche Wanderung zur FÜRTHERMOAR ALM \n(bei Bedarf auch per Bus möglich) \n\n\nca. 13.30 Uhr verspätetes Mittagessen auf der Fürthermoar Alm \n(bitte die Essensauswahl bei der Anmeldung bekannt geben) \n\n\nGemütlicher Ausklang auf der Alm   \n\n\nca. 16.30 Uhr gemeinsame Talfahrt \n\n\n  \nTAGESORDNUNG JAHRESHAUPTVERSAMMLUNG 2024\nBegrüßung ATTRAKTIV-Rückblick 2023/2024KassaberichtEntlastung des Kassiers durch die Kassaprüfer Entlastung des Vorstands  Vorschau ATTRAKTIV-Jahresprogramm 2024 Allfälliges \n  \nINKLUSIVLEISTUNGEN\nBerg- & Talfahrt Mooserboden \nFührung Limber III & Mooserboden \nMitagessen Fürthermoar Alm \n  \nAuswahl Mittagessen\nSpinatknödel mit brauner Butter & Bergkäse \nStroganoff vom BIO-Rind mit Semmelknödel \nAlmjause mit hausgemachten Köstlichkeiten \n  \nSELBSTBEHALT pro Person\nfür unsere Mitglieder € 25\,00gerne auch mit Begleitung \ninkl. aller angegebenen InklusivleistungenGetränke auf der Fürthermoar Alm sind bitte selbst zu bezahlen \n  \nzahlbar mittels Online-Zahlung bei der Anmeldung über das Onlineformular. \noder per Überweisung auf das Girokonto von Piesendorf Attraktiv: \nRaiffeisenbank Hohe Tauern | IBAN AT46 3501 2000 1803 1724 \n \nANMELDUNG\nFür die Teilnahme am Ausflug und der Jahreshauptversammlung ist eine verbindliche Anmeldung bis spätestens Mittwoch 18.09.2024 notwendig.Anmeldung über unten stehendes Formular bzw. per Mail an anmeldung@piesendorf-attraktiv.at mit Angabe von  Firma\, Vor- & Nachname jedes Teilnehmers\, Telefonnummer\, E-Mail & Auswahl Mittagessen \n  \n  \nWir freuen uns auf einen vielversprechenden Ausflug!  \nSollte uns das Wetter doch nicht mitspielen\, bemühen wir uns um ein entsprechendes Alternativprogramm. \n 
URL:https://www.piesendorf-attraktiv.at/event/jahreshauptversammlung24/
CATEGORIES:Ausflug
ORGANIZER;CN="Piesendorf Attraktiv":MAILTO:anmeldung@piesendorf-attraktiv.at
END:VEVENT
BEGIN:VEVENT
DTSTART;VALUE=DATE:20240715
DTEND;VALUE=DATE:20240720
DTSTAMP:20260420T153208
CREATED:20230327T113013Z
LAST-MODIFIED:20251116T154258Z
UID:10000004-1721001600-1721433599@www.piesendorf-attraktiv.at
SUMMARY:Schwimmkurs für Piesendorfer Kinder
DESCRIPTION:SCHWIMMEN ist wichtig – SCHWIMMEN ist lebensnotwendig!\nAls Gemeinschaftsprojekt von Piesendorf Attraktiv und der Gemeinde Piesendorf ist es uns ein großes Anliegen auch 2024 einen subventionierten SCHWIMMKURS für Piesendorfer Kinder ab 5 Jahren mit Stephanie Müllauer-Hahn & ihrem Team der Pinzgauer Schwimmschule zu organisieren. \n  \n \nTERMIN: 15. – 19. Juli 2024 (Mo-Fr) im Hallenbad Zell am SeeMo-Do jeweils 10.00 bis 10.50 Uhr  Fr 08.00 bis 08.50 Uhr \nTREFFPUNKT: jeweils 15 Minuten vorher im Kassabereich des Zeller HallenbadsMITZUBRINGEN: Badesachen & Handtuch (KEINE Schwimmhilfen!)SELBSTBEHALT: pro Kind € 50\,00 (Bezahlung erfolgt direkt bei Anmeldung mittels Online-Zahlung/Überweisung – erst mit erfolgter Zahlung ist der Platz reserviert) \nMAX. TEILNEHMERZAHL:  30 Kinder \nANMELDUNG: ab Mai 2024 möglich! \nACHTUNG:  Anmeldung nur für Piesendorfer Kinder möglich! \n  \nMit Anmeldung und Einzahlung des Kursbeitrages erkläre ich mich mit folgenden Punkten einverstanden:\n** Ich bestätige\, dass ich für eine der Veranstaltung entsprechende Unfallversicherung des Kindes/der Kinder selbst sorge. \n** Mein Kind  darf/ meine Kinder dürfen die Veranstaltung nur mit den bei der Anmeldung bekannt gegebenen Personen verlassen** Mein Kind darf / meine Kinder dürfen für ein Gruppen-Foto abgebildet werden. Dieses Foto darf und von Piesendorf Attraktiv und der Gemeinde Piesendorf veröffentlicht werden. \n** Meine Daten Daten werden zu administrativen Zwecken gespeichert. Die Daten werden nicht für Werbeaussendungen verwendet. \nStornobedingungen: Bis 1 Woche vor Kursbeginn ist eine Stornierung kostenlos möglich. Danach müssen wir 100% der Kursgebühren verrechnen und können den Elternbeitrag nicht mehr erstatten
URL:https://www.piesendorf-attraktiv.at/event/schwimmkurs2024/
LOCATION:Hallenbad Zell am See\, Steinergasse 3-5\, Zell am See\, 5700\, Österreich
CATEGORIES:Workshop/Kurs
ORGANIZER;CN="Piesendorf Attraktiv":MAILTO:anmeldung@piesendorf-attraktiv.at
END:VEVENT
BEGIN:VEVENT
DTSTART;TZID=Europe/Berlin:20240607T180000
DTEND;TZID=Europe/Berlin:20240607T220000
DTSTAMP:20260420T153208
CREATED:20240527T073755Z
LAST-MODIFIED:20251116T154825Z
UID:10000018-1717783200-1717797600@www.piesendorf-attraktiv.at
SUMMARY:Grill & Chill beim Naglbauer
DESCRIPTION:Wir laden zum gemütlichen Unternehmerstammtisch am Nagl! \n       \n  \n\n  \nFreitag\, 07. Juni 2024\n 18.00 Uhr Treffpunkt & Apertitiv am Kraftplatz beim Zirben-Bäumchen \nanschließend Grillabend beim Naglbauer \n  \nINKLUSIVLEISTUNGEN \nApertitiv am Kraftplatz \nGrillbuffet beim Naglbauer \n  \nUNKOSTENBEITRAG pro Person \nfür unsere Mitglieder € 20\,00 gerne auch mit Begleitung \ninkl. aller angegebenen Inklusivleistungen \n  \nzahlbar mittels Online-Zahlung bei der Anmeldung (siehe unten) \noder per Überweisung auf das Girokonto von Piesendorf Attraktiv: \nRaiffeisenbank Hohe Tauern | IBAN AT46 3501 2000 1803 1724 \n  \n  \nANMELDUNG bis Dienstag\, 04. Juni 2024  \nüber das Anmelde-Formular (siehe unten)oder per E-Mail an anmeldung@piesendorf-attraktiv.at \n  \nGUT ZU WISSEN \nDie Veranstaltung findet bei jeder Witterung statt.Bei Schlechtwetter treffen wir uns gleich beim Naglbauer.  \n  \nWir freuen uns auf eure Anmeldungen und vor allem auf einen netten & lustigen Abend! \n  \n  \n\n\n\n 
URL:https://www.piesendorf-attraktiv.at/event/grillabend2024/
CATEGORIES:Unternehmerstammtisch
ORGANIZER;CN="Piesendorf Attraktiv":MAILTO:anmeldung@piesendorf-attraktiv.at
END:VEVENT
BEGIN:VEVENT
DTSTART;TZID=Europe/Berlin:20240516T173000
DTEND;TZID=Europe/Berlin:20240516T200000
DTSTAMP:20260420T153208
CREATED:20230425T211738Z
LAST-MODIFIED:20251116T154330Z
UID:10000007-1715880600-1715889600@www.piesendorf-attraktiv.at
SUMMARY:E-Bike Fit in den Sommer
DESCRIPTION:  \nmit Bike Infection Trainer & klimaaktiv mobil E-Bike-Lehrer Wilfried SonnleithnerRund jedes dritte gekaufte Fahrrad ist ein E-Bike. Das motorunterstützte Radfahren ist beliebt\, birgt aber auch Gefahren. Bei gleichem Kraftaufwand wird deutlich schneller gefahren und das Fahrrad ist auch schwerer als ein herkömmliches Fahrrad. E-Bike-Fahren macht mehr Spaß\, wenn man mit dem E-Bike gut umgehen kann und sich dadurch sicher fühlt.Deshalb laden wir nicht nur unsere Mitglieder\, sondern alle Piesendorfer:innen zum PIESENDORF ATTRAKTIV E-Bike-Workshop! \n  \n \nE-Bike-fit in den Sommer!\nDonnerstag\, 16. Mai 2024\n17.30 – 20.00 Uhr | Feuerwehr Piesendorf \n  \nE-BIKE SAISON WarmUp \nMit etwas StVO und Technik-Theorie sowie praktische Übungen wie richtiges Kurvenfahren\, bremsen\, bergauf- und bergabfahren starten wir gemeinsam in die E-Bike Saison \nSICHER\, EFFIZIENT & mit dem Wichtigsten – dem SPASS am RADLN \n  \nINKLUSIVLEISTUNGEN \nStVO und Technik Theorieeinheit & E-Bike-Fahrtraining mit E-Bike-Lehrer Wilfried Sonnleithner \nIm Anschluss gemütliche Stärkung bei der Feuerwehr Piesendorf. \n  \nSELBSTBEHALT pro Person \nfür unsere Mitglieder KOSTENFREI | gerne auch mit Begleitung \nfür NICHT-Mitglieder – € 15\,00 pro Person  \n  \ninkl. aller angegebenen Inklusivleistungen \nzahlbar mittels Online-Zahlung bei der Anmeldung (siehe unten) \noder per Überweisung auf das Girokonto von Piesendorf Attraktiv: \nRaiffeisenbank Hohe Tauern | IBAN AT46 3501 2000 1803 1724 \n  \nMITZUBRINGEN \nGeeignetes Schuhwerk | dem Wetter entsprechende Kleidung | funktionstüchtiges E-Bike | Radhelm! \n  \nANMELDUNG bis Montag\, 13. Mai 2024 mind. 10 Teilnehmer | max. 20 Teilnehmer \nüber das Anmelde-Formular (siehe unten)oder per E-Mail an anmeldung@piesendorf-attraktiv.at \n  \nGUT ZU WISSEN \nIm Rahmen der Nachbesprechung ist auch für das leibliche Wohl gesorgt. \nDie Veranstaltung findet bei jeder Witterung statt. \nDie Übungen finden auf freiwilliger Basis und auf eigene Gefahr statt. \n  \n  \nVIELEN DANK!  \nWir freuen uns auf zahlreiche Anmeldungen! \n\n\n\n 
URL:https://www.piesendorf-attraktiv.at/event/ebike/
LOCATION:Feuerwehr Piesendorf\, Florianistraße 1\, Piesendorf\, 5721\, Österreich
CATEGORIES:Workshop/Kurs
ORGANIZER;CN="Piesendorf Attraktiv":MAILTO:anmeldung@piesendorf-attraktiv.at
END:VEVENT
END:VCALENDAR